BEGIN:VCALENDAR
VERSION:2.0
PRODID:-//Elora Centre for the Arts - ECPv6.15.15//NONSGML v1.0//EN
CALSCALE:GREGORIAN
METHOD:PUBLISH
X-ORIGINAL-URL:https://eloracentreforthearts.ca
X-WR-CALDESC:Events for Elora Centre for the Arts
REFRESH-INTERVAL;VALUE=DURATION:PT1H
X-Robots-Tag:noindex
X-PUBLISHED-TTL:PT1H
BEGIN:VTIMEZONE
TZID:America/Toronto
BEGIN:DAYLIGHT
TZOFFSETFROM:-0500
TZOFFSETTO:-0400
TZNAME:EDT
DTSTART:20240310T070000
END:DAYLIGHT
BEGIN:STANDARD
TZOFFSETFROM:-0400
TZOFFSETTO:-0500
TZNAME:EST
DTSTART:20241103T060000
END:STANDARD
BEGIN:DAYLIGHT
TZOFFSETFROM:-0500
TZOFFSETTO:-0400
TZNAME:EDT
DTSTART:20250309T070000
END:DAYLIGHT
BEGIN:STANDARD
TZOFFSETFROM:-0400
TZOFFSETTO:-0500
TZNAME:EST
DTSTART:20251102T060000
END:STANDARD
BEGIN:DAYLIGHT
TZOFFSETFROM:-0500
TZOFFSETTO:-0400
TZNAME:EDT
DTSTART:20260308T070000
END:DAYLIGHT
BEGIN:STANDARD
TZOFFSETFROM:-0400
TZOFFSETTO:-0500
TZNAME:EST
DTSTART:20261101T060000
END:STANDARD
END:VTIMEZONE
BEGIN:VEVENT
DTSTART;TZID=America/Toronto:20250510T120000
DTEND;TZID=America/Toronto:20250510T163000
DTSTAMP:20260422T023902
CREATED:20250103T200755Z
LAST-MODIFIED:20250117T185734Z
UID:10000777-1746878400-1746894600@eloracentreforthearts.ca
SUMMARY:POKEMON WORLDS!
DESCRIPTION:Pokemon kids! Join artist Eileen MacArthur for a half-day Sunday workshop celebrating the world of Pokemon! We will be making a Pokemon habitat using a variety of different materials and methods\, including drawing\, painting and sculpting! \n \nArtists will experiment with how to make existing or invented Pokemon figures and different ways to think about characters and the worlds they inhabit. We will also be learning some drawing techniques to render familiar characters. \nThis afternoon workshop will include art-making and outdoor play\, so come dressed for success!  \nPlease bring along a nut-free snack and drink.
URL:https://eloracentreforthearts.ca/event/pokemon-worlds/
LOCATION:Elora Centre for the Arts\, 75 Melville Street\, Elora\, Ontario\, N0B 1S0\, Canada
CATEGORIES:Classes,Workshops,Young Makers
ATTACH;FMTTYPE=image/png:https://eloracentreforthearts.ca/wp-content/uploads/2025/01/Pokemon-SQUARE.png
END:VEVENT
END:VCALENDAR