BEGIN:VCALENDAR
VERSION:2.0
PRODID:-//Elora Centre for the Arts - ECPv6.15.15//NONSGML v1.0//EN
CALSCALE:GREGORIAN
METHOD:PUBLISH
X-ORIGINAL-URL:https://eloracentreforthearts.ca
X-WR-CALDESC:Events for Elora Centre for the Arts
REFRESH-INTERVAL;VALUE=DURATION:PT1H
X-Robots-Tag:noindex
X-PUBLISHED-TTL:PT1H
BEGIN:VTIMEZONE
TZID:America/Toronto
BEGIN:DAYLIGHT
TZOFFSETFROM:-0500
TZOFFSETTO:-0400
TZNAME:EDT
DTSTART:20240310T070000
END:DAYLIGHT
BEGIN:STANDARD
TZOFFSETFROM:-0400
TZOFFSETTO:-0500
TZNAME:EST
DTSTART:20241103T060000
END:STANDARD
BEGIN:DAYLIGHT
TZOFFSETFROM:-0500
TZOFFSETTO:-0400
TZNAME:EDT
DTSTART:20250309T070000
END:DAYLIGHT
BEGIN:STANDARD
TZOFFSETFROM:-0400
TZOFFSETTO:-0500
TZNAME:EST
DTSTART:20251102T060000
END:STANDARD
BEGIN:DAYLIGHT
TZOFFSETFROM:-0500
TZOFFSETTO:-0400
TZNAME:EDT
DTSTART:20260308T070000
END:DAYLIGHT
BEGIN:STANDARD
TZOFFSETFROM:-0400
TZOFFSETTO:-0500
TZNAME:EST
DTSTART:20261101T060000
END:STANDARD
END:VTIMEZONE
BEGIN:VEVENT
DTSTART;TZID=America/Toronto:20250503T130000
DTEND;TZID=America/Toronto:20250503T150000
DTSTAMP:20260424T122935
CREATED:20241205T205650Z
LAST-MODIFIED:20250114T192935Z
UID:10000750-1746277200-1746284400@eloracentreforthearts.ca
SUMMARY:COLLAGRAPHS FOR KIDS! PRINTMAKING WITH AHMRI VANDEBORNE
DESCRIPTION:Calling all budding artists! Interested in trying something new? Learn the basics of printmaking through the art of collagraphs! \nGuelph artist Ahmri Vandeborne will show you tips and tricks on how to compose an image of your choosing\, translate your image to a collagraph matrix (raised surface)\, and ink up your plate for some hot-off-the-presses printing! \n \nNo experience necessary. This class is designed as a time for play and experimentation! \nContact us for more info!
URL:https://eloracentreforthearts.ca/event/collagraphs-for-kids-with-ahmri-vandeborne/
LOCATION:Elora Centre for the Arts\, 75 Melville Street\, Elora\, Ontario\, N0B 1S0\, Canada
CATEGORIES:Classes,Workshops,Young Makers
ATTACH;FMTTYPE=image/png:https://eloracentreforthearts.ca/wp-content/uploads/2024/12/Collagraphs-for-kids-SQUARE-2.png
END:VEVENT
END:VCALENDAR