BEGIN:VCALENDAR
VERSION:2.0
PRODID:-//Elora Centre for the Arts - ECPv6.15.15//NONSGML v1.0//EN
CALSCALE:GREGORIAN
METHOD:PUBLISH
X-WR-CALNAME:Elora Centre for the Arts
X-ORIGINAL-URL:https://eloracentreforthearts.ca
X-WR-CALDESC:Events for Elora Centre for the Arts
REFRESH-INTERVAL;VALUE=DURATION:PT1H
X-Robots-Tag:noindex
X-PUBLISHED-TTL:PT1H
BEGIN:VTIMEZONE
TZID:America/Toronto
BEGIN:DAYLIGHT
TZOFFSETFROM:-0500
TZOFFSETTO:-0400
TZNAME:EDT
DTSTART:20240310T070000
END:DAYLIGHT
BEGIN:STANDARD
TZOFFSETFROM:-0400
TZOFFSETTO:-0500
TZNAME:EST
DTSTART:20241103T060000
END:STANDARD
BEGIN:DAYLIGHT
TZOFFSETFROM:-0500
TZOFFSETTO:-0400
TZNAME:EDT
DTSTART:20250309T070000
END:DAYLIGHT
BEGIN:STANDARD
TZOFFSETFROM:-0400
TZOFFSETTO:-0500
TZNAME:EST
DTSTART:20251102T060000
END:STANDARD
BEGIN:DAYLIGHT
TZOFFSETFROM:-0500
TZOFFSETTO:-0400
TZNAME:EDT
DTSTART:20260308T070000
END:DAYLIGHT
BEGIN:STANDARD
TZOFFSETFROM:-0400
TZOFFSETTO:-0500
TZNAME:EST
DTSTART:20261101T060000
END:STANDARD
END:VTIMEZONE
BEGIN:VEVENT
DTSTART;TZID=America/Toronto:20250404T090000
DTEND;TZID=America/Toronto:20250404T160000
DTSTAMP:20260424T213201
CREATED:20240806T194808Z
LAST-MODIFIED:20250403T220039Z
UID:10000342-1743757200-1743782400@eloracentreforthearts.ca
SUMMARY:PARIS MATCH! APRIL PA DAY FOR KIDS
DESCRIPTION:I love Paris in the Springtime! CEZANNE\, MATISSE\, & CHAGALL will pay a visit to our studio classroom this PA Day\, as we create our own art-salon\, complete with Edith Piaf as our background crooner! Aspiring artists will learn about the great French Impressionists and consider how art movements develop\, by many minds coming together to create a community! \n \nWe will consider how Paris became a gathering place for artists and how to think about making a thriving art community of ideas and art! \nOur PA days are designed to inspire 36 young artists! Led by ECFTA Arts Educators and student staff\, we will work in 2 groups in both our cheery Art Classroom and sunny Sparrow’s Nest Maker Space. \nPA days are a balance of guided-art instruction and open-flow exploration\, along with outdoor fresh air play as always! \nTo ensure that your child is ready for a full day of art making and fun! \n\nA healthy morning snack + and lunch\nAn afternoon snack will be offered to keep the energy going\nRefillable water bottle\nIndoor shoes are recommended\nDress for the weather and for art making!\n\nAt the Elora Centre for the Arts\, we strive to support ALL children who would like to attend our programs! We make every effort to accommodate the varying needs of all our Young Makers. Please note however\, we are not able to offer full-day\, one-on-one support to children with additional needs. \nFor more information\, please contact Judy \n  \n\n \n 
URL:https://eloracentreforthearts.ca/event/paris-match-april-pa-day-for-kids/
LOCATION:Elora Centre for the Arts\, 75 Melville Street\, Elora\, Ontario\, N0B 1S0\, Canada
CATEGORIES:Classes,Workshops,Young Makers
ATTACH;FMTTYPE=image/png:https://eloracentreforthearts.ca/wp-content/uploads/2024/09/PA-Days-SQUARE.png
END:VEVENT
END:VCALENDAR