BEGIN:VCALENDAR
VERSION:2.0
PRODID:-//Elora Centre for the Arts - ECPv6.15.15//NONSGML v1.0//EN
CALSCALE:GREGORIAN
METHOD:PUBLISH
X-WR-CALNAME:Elora Centre for the Arts
X-ORIGINAL-URL:https://eloracentreforthearts.ca
X-WR-CALDESC:Events for Elora Centre for the Arts
REFRESH-INTERVAL;VALUE=DURATION:PT1H
X-Robots-Tag:noindex
X-PUBLISHED-TTL:PT1H
BEGIN:VTIMEZONE
TZID:America/Toronto
BEGIN:DAYLIGHT
TZOFFSETFROM:-0500
TZOFFSETTO:-0400
TZNAME:EDT
DTSTART:20240310T070000
END:DAYLIGHT
BEGIN:STANDARD
TZOFFSETFROM:-0400
TZOFFSETTO:-0500
TZNAME:EST
DTSTART:20241103T060000
END:STANDARD
BEGIN:DAYLIGHT
TZOFFSETFROM:-0500
TZOFFSETTO:-0400
TZNAME:EDT
DTSTART:20250309T070000
END:DAYLIGHT
BEGIN:STANDARD
TZOFFSETFROM:-0400
TZOFFSETTO:-0500
TZNAME:EST
DTSTART:20251102T060000
END:STANDARD
BEGIN:DAYLIGHT
TZOFFSETFROM:-0500
TZOFFSETTO:-0400
TZNAME:EDT
DTSTART:20260308T070000
END:DAYLIGHT
BEGIN:STANDARD
TZOFFSETFROM:-0400
TZOFFSETTO:-0500
TZNAME:EST
DTSTART:20261101T060000
END:STANDARD
END:VTIMEZONE
BEGIN:VEVENT
DTSTART;TZID=America/Toronto:20250215T130000
DTEND;TZID=America/Toronto:20250308T150000
DTSTAMP:20260424T225717
CREATED:20240807T233100Z
LAST-MODIFIED:20250218T134857Z
UID:10000349-1739624400-1741446000@eloracentreforthearts.ca
SUMMARY:THE DRAWING ROOM! |  4-WEEK SATURDAY SERIES  | LIVE ANIMALS with Donna Hull
DESCRIPTION:Art-up your Saturdays in a playful afternoon of drawing with artist Donna Hull! Learn the 101’s of drawing from an art educator with more than 30 years of experience teaching in the classroom and beyond!  This 4-week series will focus on a visit from LIVE ANIMALS\, the wonders of nature\, drawing organic shapes and artist’s choice of a naturalistic animal portrait\, Owl or Horse! FEB 15\, 22\, MARCH 1\, 8 \n \nFundamental Drawing skills are woven into each weekly lesson and home play exercises are encouraged! Our young artists will work on paper and be introduced to artist quality drawing materials and tools such as graphite sticks\,  tortillion blending sticks\, kneadable erasers and more! \nContact us for more info! \n 
URL:https://eloracentreforthearts.ca/event/the-drawing-room-4-week-saturday-series-with-donna-hull/
LOCATION:Elora Centre for the Arts\, 75 Melville Street\, Elora\, Ontario\, N0B 1S0\, Canada
CATEGORIES:Classes,Young Makers
ATTACH;FMTTYPE=image/png:https://eloracentreforthearts.ca/wp-content/uploads/2024/09/Drawing-Room-Donna-SQUARE.png
END:VEVENT
END:VCALENDAR