BEGIN:VCALENDAR
VERSION:2.0
PRODID:-//Elora Centre for the Arts - ECPv6.15.15//NONSGML v1.0//EN
CALSCALE:GREGORIAN
METHOD:PUBLISH
X-ORIGINAL-URL:https://eloracentreforthearts.ca
X-WR-CALDESC:Events for Elora Centre for the Arts
REFRESH-INTERVAL;VALUE=DURATION:PT1H
X-Robots-Tag:noindex
X-PUBLISHED-TTL:PT1H
BEGIN:VTIMEZONE
TZID:America/Toronto
BEGIN:DAYLIGHT
TZOFFSETFROM:-0500
TZOFFSETTO:-0400
TZNAME:EDT
DTSTART:20210314T070000
END:DAYLIGHT
BEGIN:STANDARD
TZOFFSETFROM:-0400
TZOFFSETTO:-0500
TZNAME:EST
DTSTART:20211107T060000
END:STANDARD
BEGIN:DAYLIGHT
TZOFFSETFROM:-0500
TZOFFSETTO:-0400
TZNAME:EDT
DTSTART:20220313T070000
END:DAYLIGHT
BEGIN:STANDARD
TZOFFSETFROM:-0400
TZOFFSETTO:-0500
TZNAME:EST
DTSTART:20221106T060000
END:STANDARD
BEGIN:DAYLIGHT
TZOFFSETFROM:-0500
TZOFFSETTO:-0400
TZNAME:EDT
DTSTART:20230312T070000
END:DAYLIGHT
BEGIN:STANDARD
TZOFFSETFROM:-0400
TZOFFSETTO:-0500
TZNAME:EST
DTSTART:20231105T060000
END:STANDARD
END:VTIMEZONE
BEGIN:VEVENT
DTSTART;TZID=America/Toronto:20220212T093000
DTEND;TZID=America/Toronto:20220212T123000
DTSTAMP:20260421T101003
CREATED:20220125T013815Z
LAST-MODIFIED:20240909T142405Z
UID:10000101-1644658200-1644669000@eloracentreforthearts.ca
SUMMARY:Drawing humans for kids!  | Saturday Morning Workshop
DESCRIPTION:Ages 8-15 \n$45 per student \nMax 10 \nAll materials provided\, but feel free to bring your favourite pencils or sketchbook to share with Katherine. \nGesture drawing is one of the most important\, but least understood parts of the figure drawing process. Join digital artist\, illustrator and instructor Katherine Olenic to guide you through the figure drawing process. This is a great beginner class for any young artist interested in learning to draw people! \n  \nAbout the Instructor: \nKatherine Olenic is a digital artist who has been drawing her whole life. She creates fantasy illustrations with vibrant colors and with a sense of wonder and imagination. Kathryn has been a freelance artist since 2015. She is also a busy art instructor\, teaching digital art\, watercolors\, and many other mediums. \nKatherine’s amazing work can be seen here: \nhttps://www.katherine-olenic.com/  \nhttps://www.instagram.com/artby_katherineolenic/  \n  \nTo ensure the health and safety of staff and participants\, the ECFTA will have a limited the number of registrants in accordance with WDGPH recommendations. Daily cleaning and social distancing will be in place to ensure a safe and enjoyable experience. \nCOVID-19 protocols and guidelines as set by the province of Ontario and the Wellington Dufferin Guelph Public Health in relation to mask wearing\, social distancing\, and vaccinations. \nParticipants will be asked to complete a COVID-19 Liability Waiver. \nIf classes are cancelled for any reason due to Public Health concerns\, refunds will be given in full. \nPlease contact programming@ecfta.ca for more information.
URL:https://eloracentreforthearts.ca/event/drawing-humans-for-kids-saturday-morning-workshop/
LOCATION:Ontario
CATEGORIES:Classes,Young Makers
ATTACH;FMTTYPE=image/jpeg:https://eloracentreforthearts.ca/wp-content/uploads/2024/09/Drawing-humans-for-kids-IG.jpg
END:VEVENT
BEGIN:VEVENT
DTSTART;TZID=America/Toronto:20220226T093000
DTEND;TZID=America/Toronto:20220226T120000
DTSTAMP:20260421T101003
CREATED:20211126T022742Z
LAST-MODIFIED:20240909T142306Z
UID:10000092-1645867800-1645876800@eloracentreforthearts.ca
SUMMARY:CLAY + KIDS  |  Saturday workshop for ages 4 - 6
DESCRIPTION:SATURDAY\, FEBRUARY 26\, 2022   |   9:30-12 PM \nAges 4-6 \nrescheduled to Saturday\, February 26\, 2022\n$45 per student |  Fee includes all materials; clay\, slip glaze and 2 firings. \nMax 10 kids in the class. \n This morning class is for our 4-6-year-old “clay enthusiasts”! \nJoin clay artist Annette Hansen for a get-messy\, hands-on morning of texture\, tools and best of all\, CLAY-play! Designed specifically for our youngest artists\, this workshop is a perfect introduction to the basics of hand building for curious makers with BIG imaginations! \n \nPLEASE NOTE!  Finished work will be taken to be kiln fired in Annette’s home studio and will be returned to the Art Centre for pick up on Saturday\, March 12 between 10-4pm in our Artisan Shop. Please make a note on your calendar. \n  \nAbout the Instructor: \n \nAnnette Hansen has been a clay artist for over 40 years. She graduated from Kolding Design School in Denmark where she studied ceramic art and design. \nAnnette recently owned COBALT GALLERY and clay studio in Toronto for over 15 years where she created her own work and pursued one of her other passions\, teaching pottery to adults and kids. She now lives in Hillsburgh\, Ontario with her husband and works out of her home studio. \n  \n  \n  \nTo ensure the health and safety of staff and participants\, the ECFTA will have a limited the number of registrants in accordance with WDGPH recommendations. Daily cleaning\, social distancing and masking will be in place to ensure a safe and enjoyable experience. Please note that masks will be required to be worn by children during the workshop. Parents will be asked to complete a COVID-19 Liability Waiver at sign in. \nIf classes are cancelled for any reason due to Public Health concerns\, refunds will be given in full. \n 
URL:https://eloracentreforthearts.ca/event/clay-kids-saturday-workshop/
LOCATION:Ontario
CATEGORIES:Classes,Young Makers
ATTACH;FMTTYPE=image/jpeg:https://eloracentreforthearts.ca/wp-content/uploads/2024/09/Clay-and-Kids-IG.jpg
END:VEVENT
BEGIN:VEVENT
DTSTART;TZID=America/Toronto:20220226T130000
DTEND;TZID=America/Toronto:20220226T153000
DTSTAMP:20260421T101003
CREATED:20211126T024259Z
LAST-MODIFIED:20240909T142310Z
UID:10000093-1645880400-1645889400@eloracentreforthearts.ca
SUMMARY:CLAY + KIDS  |  Saturday workshop for ages 7 - 11
DESCRIPTION:SATURDAY\, FEBRUARY 26\, 2022   |   1:00 – 3:30 PM \nAges 7-12 \n$45 per student |  Fee includes all materials; clay\, slip glaze and 2 firings. \nrescheduled to Saturday\, February 26\, 2022\nMax 10 kids in the class. \nThis afternoon class is for 7-12-year-old future ceramicists! \nJoin clay artist Annette Hansen to create your own nature or animal-inspired plate! Learn different hand building techniques and create your own unique piece of ceramics\, perfect for your lunch sammy or after school snack! Just bring your BIG imagination! \n \nPLEASE NOTE! Class fee includes clay\, slip colour and 2 firings.  Finished work will be taken to be kiln fired in Annette’s home studio and will be returned to the Art Centre for pick up on Saturday\, March 12 between 10-4pm in our Artisan Shop. Please make a note on your calendar. \n  \nAbout the Instructor: \n \nAnnette Hansen has been a clay artist for over 40 years. She graduated from Kolding Design School in Denmark where she studied ceramic art and design. \nAnnette recently owned COBALT GALLERY and clay studio in Toronto for over 15 years where she created her own work and pursued one of her other passions\, teaching pottery to adults and kids. She now lives in Hillsburgh\, Ontario with her husband and works out of her home studio. \n  \n  \n  \nTo ensure the health and safety of staff and participants\, the ECFTA will have a limited the number of registrants in accordance with WDGPH recommendations. Daily cleaning\, social distancing and masking will be in place to ensure a safe and enjoyable experience. Please note that masks will be required to be worn by children during the workshop. Parents will be asked to complete a COVID-19 Liability Waiver at sign in. \nIf classes are cancelled for any reason due to Public Health concerns\, refunds will be given in full. \n 
URL:https://eloracentreforthearts.ca/event/clay-kids-saturday-workshop-for-ages-7-11/
LOCATION:Ontario
CATEGORIES:Classes,Young Makers
ATTACH;FMTTYPE=image/jpeg:https://eloracentreforthearts.ca/wp-content/uploads/2024/09/Clay-and-Kids-IG.jpg
END:VEVENT
END:VCALENDAR