BEGIN:VCALENDAR
VERSION:2.0
PRODID:-//Elora Centre for the Arts - ECPv6.15.15//NONSGML v1.0//EN
CALSCALE:GREGORIAN
METHOD:PUBLISH
X-WR-CALNAME:Elora Centre for the Arts
X-ORIGINAL-URL:https://eloracentreforthearts.ca
X-WR-CALDESC:Events for Elora Centre for the Arts
REFRESH-INTERVAL;VALUE=DURATION:PT1H
X-Robots-Tag:noindex
X-PUBLISHED-TTL:PT1H
BEGIN:VTIMEZONE
TZID:America/Toronto
BEGIN:DAYLIGHT
TZOFFSETFROM:-0500
TZOFFSETTO:-0400
TZNAME:EDT
DTSTART:20210314T070000
END:DAYLIGHT
BEGIN:STANDARD
TZOFFSETFROM:-0400
TZOFFSETTO:-0500
TZNAME:EST
DTSTART:20211107T060000
END:STANDARD
BEGIN:DAYLIGHT
TZOFFSETFROM:-0500
TZOFFSETTO:-0400
TZNAME:EDT
DTSTART:20220313T070000
END:DAYLIGHT
BEGIN:STANDARD
TZOFFSETFROM:-0400
TZOFFSETTO:-0500
TZNAME:EST
DTSTART:20221106T060000
END:STANDARD
BEGIN:DAYLIGHT
TZOFFSETFROM:-0500
TZOFFSETTO:-0400
TZNAME:EDT
DTSTART:20230312T070000
END:DAYLIGHT
BEGIN:STANDARD
TZOFFSETFROM:-0400
TZOFFSETTO:-0500
TZNAME:EST
DTSTART:20231105T060000
END:STANDARD
END:VTIMEZONE
BEGIN:VEVENT
DTSTART;TZID=America/Toronto:20220721T193000
DTEND;TZID=America/Toronto:20220721T203000
DTSTAMP:20260421T092409
CREATED:20220412T175245Z
LAST-MODIFIED:20240909T142645Z
UID:10000141-1658431800-1658435400@eloracentreforthearts.ca
SUMMARY:Artist Talk - Motivation & Inspiration!  with artist Eva McCauley
DESCRIPTION:Are you looking for some creative inspiration?  A bit of motivation to rejuvenate your artistic practice?  Does your soul need to be filled with the energy from other creative people in our community?  Are you just looking for some balance in your life\, a way of welcoming creativity into your mindset?  If you answered yes to any of the above\, please JOIN US for this FREE Artist Talk with Eva McCauley this summer! \n \nEva’s exhibition ‘Splendid Isolation’ will be showcased in our main gallery this summer\, and she has graciously agreed to host an Artist Talk evening during the show.  She will talk about the motivation behind her new series\, her influences\, painting methods and process.  She will share about her inspiration and ways she was able to execute her ideas when faced with distractions and creative roadblocks. \nEveryone is welcome to attend!  No registration required.  Ideal for both artists and art appreciators!  Free. \nAbout Eva McCauley: \n \nEva McCauley is a painter and printmaker known for her atmospheric\, expressive paintings of sky\, water and shifting landscapes that explore the passage of time and the transient and ephemeral nature of the spiritual and physical world. She is also a figurative artist\, and is fascinated with the human condition\, and the fragility of our existence. She divides her time between her studios in Bear River\, N.S.\, and Elmira\, Ontario\, painting people and places that are steeped in personal significance. \nHer work explores the process of recollection and how we process memories. Her focus is not on the recreation of a specific image or moment\, but the creation of something informed by the act of remembering — an act which renders past experiences as ephemeral\, and constantly in flux\, resulting in works which perpetually shift\, their images lyrical\, ghost-like\, and ethereal. \nShe studied visual art at the Ontario College of Art and Design\, receiving an O.C.A.D. diploma in drawing & painting (1983)\, a B.F.A. from University of Guelph (1994) and a M.F.A. from University of Waterloo (1996). \nShe has exhibited internationally and nationally\, with solo exhibitions at ArtsPlace Gallery in Annapolis Royal\, N.S.\, (Splendid Isolation\, 2021)\, St. Thomas Elgin Art Centre (World’s Edge\, 2014);  Wandesford Quay Gallery in Cork (In/Visible\, Aug/Sept. 2012); Limerick Printmakers (In/Visible\, August/Sept. 2010); Elora Centre for the Arts\, Elora\, Ontario\, and Harbinger Gallery\, Waterloo (Solas agus Scáth‎\, 2009)\,   Kitchener Waterloo Art Gallery (Momento Mori); Open Studio\, Toronto (Ruptured Time); Bau-Xi Gallery\, Toronto (Colour of Memory\, Mutable as Water\, Gaze); and solo and group exhibitions at Harbinger Gallery\, Waterloo; Kitchener Waterloo Art Gallery 2nd Biennale (2005); and the Castellani Museum in Lewiston\, N.Y. (Crossing Borders). Her work is included in collections in Canadian Embassies all over the world and is part of a Canadian boxed set collection sponsored by the Ministry of Foreign Affairs. \nMcCauley is the recipient of many awards and scholarships\, including the W.O. Forsythe Painting Award (1983)\, Bronfman Printmaking Award (1993)\, Warner Lambert Printmaking Scholarship (1994) “Best in Printmaking Award” at the Toronto Outdoor Art Exhibition (1996)\, “Ernst & Young Purchase Award” (1996)\, a Canada Council “Quest” Grant for Emerging Artists (2000)\, as well as an Ontario Council Project Grant (2007). Her work can be found in many private and public collections such as the Kitchener Waterloo Art Gallery\, Wilfrid Laurier University\, Canadian Ministry of Foreign Affairs\, Waterloo Regional Labour Council\, and the Ernst & Young Canadian Print Collection. \nShe is an art educator\, and has been a sessional professor of Fine Art at the University of Waterloo since 2002. \nTo find out more about Eva\, please visit her website.
URL:https://eloracentreforthearts.ca/event/artist-talk-motivation-inspiration-with-artist-eva-mccauley/
LOCATION:Ontario
CATEGORIES:Adult Workshops,Events
ATTACH;FMTTYPE=image/jpeg:https://eloracentreforthearts.ca/wp-content/uploads/2024/09/Artist-Talk-with-Eva-M-IG-square.jpg
END:VEVENT
END:VCALENDAR