BEGIN:VCALENDAR
VERSION:2.0
PRODID:-//Elora Centre for the Arts - ECPv6.15.15//NONSGML v1.0//EN
CALSCALE:GREGORIAN
METHOD:PUBLISH
X-WR-CALNAME:Elora Centre for the Arts
X-ORIGINAL-URL:https://eloracentreforthearts.ca
X-WR-CALDESC:Events for Elora Centre for the Arts
REFRESH-INTERVAL;VALUE=DURATION:PT1H
X-Robots-Tag:noindex
X-PUBLISHED-TTL:PT1H
BEGIN:VTIMEZONE
TZID:America/Toronto
BEGIN:DAYLIGHT
TZOFFSETFROM:-0500
TZOFFSETTO:-0400
TZNAME:EDT
DTSTART:20210314T070000
END:DAYLIGHT
BEGIN:STANDARD
TZOFFSETFROM:-0400
TZOFFSETTO:-0500
TZNAME:EST
DTSTART:20211107T060000
END:STANDARD
BEGIN:DAYLIGHT
TZOFFSETFROM:-0500
TZOFFSETTO:-0400
TZNAME:EDT
DTSTART:20220313T070000
END:DAYLIGHT
BEGIN:STANDARD
TZOFFSETFROM:-0400
TZOFFSETTO:-0500
TZNAME:EST
DTSTART:20221106T060000
END:STANDARD
BEGIN:DAYLIGHT
TZOFFSETFROM:-0500
TZOFFSETTO:-0400
TZNAME:EDT
DTSTART:20230312T070000
END:DAYLIGHT
BEGIN:STANDARD
TZOFFSETFROM:-0400
TZOFFSETTO:-0500
TZNAME:EST
DTSTART:20231105T060000
END:STANDARD
END:VTIMEZONE
BEGIN:VEVENT
DTSTART;TZID=America/Toronto:20220420T123000
DTEND;TZID=America/Toronto:20220420T140000
DTSTAMP:20260421T134138
CREATED:20220308T230512Z
LAST-MODIFIED:20240909T142548Z
UID:10000122-1650457800-1650463200@eloracentreforthearts.ca
SUMMARY:Lunch Time Lecture Series: The bird of perception - AN AUTOBIOALLEGORATORIO WITH THE POETRY OF E.E. CUMMINGS AND W.H. AUDEN
DESCRIPTION:THE BIRD OF PERCEPTION | AN AUTOBIOALLEGORATORIO WITH THE POETRY OF E.E. CUMMINGS AND W.H. AUDEN \nHow can we reconcile some of the major metaphysical traditions in our modern lives? Ever try blending Christianity\, Buddhism\, and developmental psychology\, using the poetry of Auden and Cummings? Here it is: The Bird of Perception. \n \nLet local legend\, artist\, dancer and composer PETER SKOGGARD turn your ear and turn you on to some of his favourite topics during this casual lunchtime lectures in the ELORA CENTRE FOR THE ARTS studio classroom. \nTune up your grey matter and engage with the enigmatic Mr. Skoggard to refresh\, relearn or discover something new! \n$15 per person \n$10 seniors and students \nPay at the door. CASH ONLY. No registration required. \n  \n  \n  \n\nEach lecture is drop in during the lunch hour (lunch not provided).\nPlease bring a drink and allow for time for a chat afterwards.\nMasking will be in effect.\nHosted and presented by Peter Skoggard.\n\nFor more information\, please email Peter directly: p.skoggard@hotmail.com
URL:https://eloracentreforthearts.ca/event/lunch-time-lecture-series-the-bird-of-perception-an-autobioallegoratorio-with-the-poetry-of-e-e-cummings-and-w-h-auden/
LOCATION:Ontario
CATEGORIES:Adult Workshops,Classes,courses
ATTACH;FMTTYPE=image/jpeg:https://eloracentreforthearts.ca/wp-content/uploads/2024/09/Lunchtime-Lecture-with-Peter-Skoggard-square.jpg
END:VEVENT
END:VCALENDAR