BEGIN:VCALENDAR
VERSION:2.0
PRODID:-//Elora Centre for the Arts - ECPv6.15.15//NONSGML v1.0//EN
CALSCALE:GREGORIAN
METHOD:PUBLISH
X-WR-CALNAME:Elora Centre for the Arts
X-ORIGINAL-URL:https://eloracentreforthearts.ca
X-WR-CALDESC:Events for Elora Centre for the Arts
REFRESH-INTERVAL;VALUE=DURATION:PT1H
X-Robots-Tag:noindex
X-PUBLISHED-TTL:PT1H
BEGIN:VTIMEZONE
TZID:America/Toronto
BEGIN:DAYLIGHT
TZOFFSETFROM:-0500
TZOFFSETTO:-0400
TZNAME:EDT
DTSTART:20210314T070000
END:DAYLIGHT
BEGIN:STANDARD
TZOFFSETFROM:-0400
TZOFFSETTO:-0500
TZNAME:EST
DTSTART:20211107T060000
END:STANDARD
BEGIN:DAYLIGHT
TZOFFSETFROM:-0500
TZOFFSETTO:-0400
TZNAME:EDT
DTSTART:20220313T070000
END:DAYLIGHT
BEGIN:STANDARD
TZOFFSETFROM:-0400
TZOFFSETTO:-0500
TZNAME:EST
DTSTART:20221106T060000
END:STANDARD
BEGIN:DAYLIGHT
TZOFFSETFROM:-0500
TZOFFSETTO:-0400
TZNAME:EDT
DTSTART:20230312T070000
END:DAYLIGHT
BEGIN:STANDARD
TZOFFSETFROM:-0400
TZOFFSETTO:-0500
TZNAME:EST
DTSTART:20231105T060000
END:STANDARD
END:VTIMEZONE
BEGIN:VEVENT
DTSTART;TZID=America/Toronto:20220206T130000
DTEND;TZID=America/Toronto:20220206T160000
DTSTAMP:20260421T163109
CREATED:20211202T020333Z
LAST-MODIFIED:20240909T142311Z
UID:10000094-1644152400-1644163200@eloracentreforthearts.ca
SUMMARY:Chunky Knit Blanket Workshop with the Blanket Babes!
DESCRIPTION:Sunday\, February 6\, 2022  |  1 – 4 PM \nAges 16+  | Maximum 10 in the workshop \n$150 + HST \nSold out\nPlease note: This class has been rescheduled to  \nSunday Feb 6\, 1-4 pm \nYou’ve seen these big squishy blankets on Instagram\, now here’s your chance to make your own! Come join us for this beginner-friendly workshop! \nMartina from The Blanket Babes will teach you everything that you need to know from casting on to finishing your blanket. No needles or knitting experience is required and all supplies will be provided. The entire project will be finished in 3 hours. All you have to do is choose your blanket colour and show up ready to learn the art of hand-knitting! The blanket size will be approximately 45″ x 55″. \n \nPlease select your colour choice for your blanket when you register for this workshop (details at ticket purchase)! Colour choices: Pale Grey\, Caramel\, White Cream\, and Pink. \n \n  \n  \n  \n  \n  \n  \n  \n\nAbout the Instructor: \n I’m Martina\, a dog mama to two labs and a caregiver for my Grandfather from small-town Ontario! I started making blankets as gifts for friends and I quickly fell in love with the process of making them and the joy that they bring to their recipients\, thus The Blanket Babes was born! \nPlease check out The Blanket Babes on Instagram @theblanketbabes \n  \n  \n  \n  \n  \n  \nHealth & Safety: \nTo ensure the health and safety of staff and participants\, the ECFTA will have a limited the number of registrants in accordance with WDGPH recommendations. Daily cleaning and masking will be in place to ensure a safe and enjoyable experience. \nParticipants will be asked to complete a COVID-19 Liability Waiver and provide PROOF OF VACCINATION with ID. \nIf classes are cancelled for any reason due to Public Health concerns\, refunds will be given in full. \nPlease contact programming@ecfta.ca for more information. \n  \n  \n  \n 
URL:https://eloracentreforthearts.ca/event/chunky-knit-blanket-workshop-with-the-blanket-babes/
LOCATION:Ontario
CATEGORIES:Adult Workshops
ATTACH;FMTTYPE=image/jpeg:https://eloracentreforthearts.ca/wp-content/uploads/2024/09/chunky-blanket-workshop.jpg
END:VEVENT
END:VCALENDAR