BEGIN:VCALENDAR
VERSION:2.0
PRODID:-//Elora Centre for the Arts - ECPv6.15.15//NONSGML v1.0//EN
CALSCALE:GREGORIAN
METHOD:PUBLISH
X-WR-CALNAME:Elora Centre for the Arts
X-ORIGINAL-URL:https://eloracentreforthearts.ca
X-WR-CALDESC:Events for Elora Centre for the Arts
REFRESH-INTERVAL;VALUE=DURATION:PT1H
X-Robots-Tag:noindex
X-PUBLISHED-TTL:PT1H
BEGIN:VTIMEZONE
TZID:America/Toronto
BEGIN:DAYLIGHT
TZOFFSETFROM:-0500
TZOFFSETTO:-0400
TZNAME:EDT
DTSTART:20200308T070000
END:DAYLIGHT
BEGIN:STANDARD
TZOFFSETFROM:-0400
TZOFFSETTO:-0500
TZNAME:EST
DTSTART:20201101T060000
END:STANDARD
BEGIN:DAYLIGHT
TZOFFSETFROM:-0500
TZOFFSETTO:-0400
TZNAME:EDT
DTSTART:20210314T070000
END:DAYLIGHT
BEGIN:STANDARD
TZOFFSETFROM:-0400
TZOFFSETTO:-0500
TZNAME:EST
DTSTART:20211107T060000
END:STANDARD
BEGIN:DAYLIGHT
TZOFFSETFROM:-0500
TZOFFSETTO:-0400
TZNAME:EDT
DTSTART:20220313T070000
END:DAYLIGHT
BEGIN:STANDARD
TZOFFSETFROM:-0400
TZOFFSETTO:-0500
TZNAME:EST
DTSTART:20221106T060000
END:STANDARD
END:VTIMEZONE
BEGIN:VEVENT
DTSTART;TZID=America/Toronto:20210914T100000
DTEND;TZID=America/Toronto:20211216T120000
DTSTAMP:20260421T210906
CREATED:20210907T204058Z
LAST-MODIFIED:20240909T142204Z
UID:10000078-1631613600-1639656000@eloracentreforthearts.ca
SUMMARY:Supportive Arts Program for Adults with (dis)Abilities - Fall Program
DESCRIPTION:An inclusive\, all abilities art and mindfulness workshop for adults with (dis)abilities 18+\nSUPPORTIVE ARTS is a unique program supported by the Ontario Trillium Foundation\, offering arts-based learning opportunities and compelling artistic experiences to individuals with (dis)abilities living in the community. We welcome adults and caregivers from Wellington County and the surrounding areas to our weekly program. Led by ECFTA Arts Educators and Mindfulness Coaches.  The Supportive Arts Fall 2021 program has expanded to 3 sessions per week. \nPlease note that our 14-week Fall Session is currently full due to covid restrictions\, however as public health guidelines allow for more participants we will allow more.  Please see contact information below regarding out wait list. \nTHE PROGRAM: Join us for a guided 2-hour workshop\, specifically designed to support adults of all abilities. Each session\, we will embrace diversity and friendship through explorations in art making\, movement\, mindfulness and music. Every week is as unique as each of our participants!  Supportive Arts is offered free of charge to all participants and support companions\, thanks to the generous support from the Ontario Trillium Foundation. \n \n \n  \n  \n  \nSupport workers or family members are welcome if assistance is required. \nThe Fall 2021 program will run Tuesdays and Thursdays\, 3 sessions per week. \nOUR SPACE: Our bright and cheerful ECFTA classroom is wheelchair accessible and adheres to all WDGPH covid-19 protocols.  In warm temperatures\, we may run programming outside in our 1500 square foot big top tent! \nCONTACT:  Please contact Judy at programming@ecfta.ca for more information\, or to be placed on our waiting list for our Winter/Spring sessions. \nVisit our Facebook page for photos and weekly updates! \nCOVID-19 SAFETY PROTOCOLS: \n\nIf in-person classes are cancelled due to public health concerns\, we will revert to virtual programming.\nProof of Covid-19 double vaccination is required to attend the workshops\, in accordance with the Province of Ontario and our local Public Health unit.\nTo ensure the health and safety of staff and participants\, the ECFTA will have a limited the number of registrants in accordance with WDGPH recommendations. Daily cleaning and social distancing will be in place to ensure a safe and enjoyable experience.\nPlease note: Participants will be asked to complete a Covid Liability Waiver\, and provide proof of vaccination.\nPlease contact programming@ecfta.ca for more information.\n\n\nOTF Grant Boost:  The Ontario Trillium Foundation has supported this program with a 3-year grant boost\, allowing us to offer additional classes each year.  Our 2021 Fall program has expanded to 3 workshops a week\, with plans to expand to 4 times a week in the fall of 2022. \nThe Ontario Trillium Foundation investment in this project will support positive change in our community to make it healthier and more vibrant over the next 3 years. \nFor more information about this program please click here. \n  \n  \n  \n  \n  \n  \n 
URL:https://eloracentreforthearts.ca/event/supportive-arts-program-for-young-adults-with-disabilities-fall-program/
LOCATION:Ontario
CATEGORIES:Adult Workshops,Events,Outreach Programs
ATTACH;FMTTYPE=image/jpeg:https://eloracentreforthearts.ca/wp-content/uploads/2024/09/Supportive-Arts-OTF-poster-Jason.jpg
END:VEVENT
BEGIN:VEVENT
DTSTART;TZID=America/Toronto:20211005T190000
DTEND;TZID=America/Toronto:20211123T220000
DTSTAMP:20260421T210906
CREATED:20210727T225211Z
LAST-MODIFIED:20240909T142155Z
UID:10000075-1633460400-1637704800@eloracentreforthearts.ca
SUMMARY:Sylvia Galbraith Photography Workshop presents "Photography Skills Level 1"
DESCRIPTION:Sylvia Galbraith Photography Workshop presents “Photography Skills Level 1” \nThis is an 8-week course on Tuesdays from October 5 – November 23\, 2021  |  7:00 – 10:00 PM \nClasses will be held in the classroom at the Elora Centre for the Arts\, and will run in-person following Public Health guidelines. \nAbout the Course:\n\n\nBased on my Conestoga College courses\, this introductory level 8-week course is the first in a series of four courses that include Photography Skills – Levels 1 & 2\,  Digital Imaging – Photoshop Levels 1 & 2\, as well as single workshops such as Documentary Photography and The Photographic Art Form. This first course of the series is suitable for those with no experience.  You will gain confidence with your camera to be able to shoot in any situation\, and is the first step in learning photography skills that can take you beyond the hobbyist or amateur level.  We’ll cover everything from lenses to exposure settings\, as well as lighting\, file formats\, focus and much more.  You must have either a DSLR or advanced mirrorless camera for this course.  \n\n \n\n\nSuitable for: dedicated amateur or hobbyist photographers\, anyone who requires photographic skills for their profession\, or for those looking to begin a career in photography.Class sizes are limited to allow for distancing\, register early to avoid disappointment.\n\n\n\nRegister online by clicking here.\nEarly Bird registration – before Sept. 5\, 2021: $365.00 + HST\nAfter Sept. 5\, 2021: $395.00 + HST \n\n\n\n\n\n\n\nAbout the Instructor:\n\nSYLVIA GALBRAITH\, based in Fergus\, ON\, is a professional photographer whose traditional methods of image creation are joined with a contemporary practice of using video and installation.  She has worked with several art forms over the years including oils\, charcoal and clay\, but found that the restrictions inherent to the camera inspired and challenged her more than any other art form.  Her current practice demonstrates a deep connection with the landscapes and people found in some of Canada’s loneliest places. Galbraith has participated in residencies in Newfoundland\, Banff and Northern Ontario\, and has exhibited her work in solo shows as well as in numerous group exhibitions across Canada. She has photographs in corporate\, public and private collections throughout Canada\, and internationally\, and has received many awards and bursaries for her work. \nGalbraith has taught photography courses throughout Canada\, including for the University of Toronto\, University of Brandon\, MB\, Humber College\, and various arts organizations. She has been an Associate Faculty Member for Conestoga College’s Commercial Photography Certificate Program for the past 11 years. In response to the need for higher level photography training as local colleges and universities reduce their course offerings\, she has developed a series of courses that are based on the college-level programs she has developed over the years for various educational institutions.  Suitable for serious hobbyists\, those requiring photographic skills for their profession\, or those planning a career in photography\, this program includes training in camera skills\, studio photography and in digital editing. \nIn addition to her artistic practice\, Galbraith is actively involved in the arts community; she was a photographer for the Bonavista Biennale (2017 & 2019\, Newfoundland)\, and served a two-year term on the Board of Directors for the Elora Centre for the Arts. She is a member of The Elora Arts Council\, The Guelph Arts Council\, CARFAC\, and Gallery 44 Centre for Contemporary Photography in Toronto. Galbraith also curates exhibitions for corporate venues throughout the GTA and locally\, and is involved with the annual Scotiabank Contact Photography Festival in Toronto\, both as an artist and a curator. \n\n\nFor more information about Sylvia please visit her website.
URL:https://eloracentreforthearts.ca/event/photography-skills-level-1-8-weeks-with-instructor-sylvia-galbraith/
LOCATION:Ontario
CATEGORIES:Adult Workshops,Classes,courses
ATTACH;FMTTYPE=image/jpeg:https://eloracentreforthearts.ca/wp-content/uploads/2024/09/Sylvia-Galbraith-image-for-fall-workshops.jpg
END:VEVENT
BEGIN:VEVENT
DTSTART;TZID=America/Toronto:20211113T110000
DTEND;TZID=America/Toronto:20211114T160000
DTSTAMP:20260421T210906
CREATED:20210914T231150Z
LAST-MODIFIED:20240909T142212Z
UID:10000080-1636801200-1636905600@eloracentreforthearts.ca
SUMMARY:Exploring Cold Wax & Oil Painting | Weekend Workshop with Laurie Skantzos
DESCRIPTION:2 DAY WORKSHOP  | Saturday November 13 & Sunday November 14\, 2021  |  11AM – 4PM \nWe are so happy to welcome Guelph artist Laurie Skantzos back with us for an inspiring weekend workshop in our classroom! This course will appeal to painters of any level\, who wish to deepen or rekindle their relationship to their inner muse. \nLaurie will be giving instruction in layering\, scraping back\, using solvent reductions\, adding pastels\, stamps and stencils and experimenting with a variety of tools such as brayers\, clay modeling tools and squeegies to create beautifully rich surfaces. \nDemonstrations using oil and cold wax\, along with a variety of implements\, will assist you in your own personal exploration. \nOver two days\, Laurie will venture deeper into your painting process to develop personal expression in a safe\, non-judgmental and playful space. \nsold out\nMAX. 12 \n$250/weekend workshop plus HST \n$20 kit fee is payable in cash to the instructor at the start of class. \n \n \n  \nThe following materials are provided: Bowl scrapers\, variety of tools\, Gamblin Cold Wax Medium\, Gamblin Odourless Solvent\, Tissue Paper\, Newsprint \nStudents are asked to bring the following material list: \n\nOil paints (variety of colours)\nPalette knives (at least one but feel free to try different shapes and sizes)\nRigid surfaces such as cradled panel\, plywood or masonite (with 2 coats of gesso)\nArches Oil Paper (One or two full sheets or a pad) or Canvas Paper\nCreative Catalyst Wedge (straight edge – beige). This is sold at Wyndham Art Supply or Curry’s and/or Messermeister Bowl Scraper from Amazon\nMasking Tape\nRoll of Paper Towel\nBrushes (we won’t use many\, but feel free to bring some)\nWax Paper\nPalette for mixing \n\nThere will be a short break both Sat. and Sun. for lunch\, so it is recommended that you bring a bag lunch and water bottle. \nCOVID-19 Safety Protocols: \n\nIf classes are cancelled for any reason due to public health concerns\, refunds will be given in full.\nProof of Covid-19 double vaccination is required to attend the workshop\, in accordance with the Province of Ontario and our local Public Health unit.\nTo ensure the health and safety of staff and participants\, the ECFTA will have a limited the number of registrants in accordance with WDPH recommendations. Daily cleaning and social distancing will be in place to ensure a safe and enjoyable experience.\nPlease note: Participants will be asked to complete a Covid Liability Waiver\, and provide proof of vaccination along with one piece of photo ID.\nPlease contact programming@ecfta.ca for more information.\n\nAbout the Instructor: \n \nLaurie’s abstract and semi-abstract painting is largely inspired by the natural world and filtered through her inner landscape. She studied fine art at the University of Waterloo and her work is displayed in galleries throughout Ontario. She regularly participates in shows such as the Toronto Outdoor Art Exhibition and International Affordable Art Fairs with Spence Gallery. Laurie’s work is included in private and public collections across North America\, Europe and Asia. She works from her home studio in Guelph Ontario. \nLaurie also teaches six week sessions at the Guelph School of Art and a week long intensive during the summer at the Wellington County Museum. She offers private and semi-private classes in her home studio. The focus is on building a visual vocabulary of tools and techniques while further establishing each participant’s unique voice. \n 
URL:https://eloracentreforthearts.ca/event/exploring-cold-wax-oil-painting-weekend-workshop-with-laurie-skantzos/
LOCATION:Ontario
CATEGORIES:Adult Workshops,Classes
ATTACH;FMTTYPE=image/jpeg:https://eloracentreforthearts.ca/wp-content/uploads/2024/09/Cold-Wax-and-Oil-with-Laurie.jpg
END:VEVENT
END:VCALENDAR