BEGIN:VCALENDAR
VERSION:2.0
PRODID:-//Elora Centre for the Arts - ECPv6.15.15//NONSGML v1.0//EN
CALSCALE:GREGORIAN
METHOD:PUBLISH
X-WR-CALNAME:Elora Centre for the Arts
X-ORIGINAL-URL:https://eloracentreforthearts.ca
X-WR-CALDESC:Events for Elora Centre for the Arts
REFRESH-INTERVAL;VALUE=DURATION:PT1H
X-Robots-Tag:noindex
X-PUBLISHED-TTL:PT1H
BEGIN:VTIMEZONE
TZID:America/Toronto
BEGIN:DAYLIGHT
TZOFFSETFROM:-0500
TZOFFSETTO:-0400
TZNAME:EDT
DTSTART:20200308T070000
END:DAYLIGHT
BEGIN:STANDARD
TZOFFSETFROM:-0400
TZOFFSETTO:-0500
TZNAME:EST
DTSTART:20201101T060000
END:STANDARD
BEGIN:DAYLIGHT
TZOFFSETFROM:-0500
TZOFFSETTO:-0400
TZNAME:EDT
DTSTART:20210314T070000
END:DAYLIGHT
BEGIN:STANDARD
TZOFFSETFROM:-0400
TZOFFSETTO:-0500
TZNAME:EST
DTSTART:20211107T060000
END:STANDARD
BEGIN:DAYLIGHT
TZOFFSETFROM:-0500
TZOFFSETTO:-0400
TZNAME:EDT
DTSTART:20220313T070000
END:DAYLIGHT
BEGIN:STANDARD
TZOFFSETFROM:-0400
TZOFFSETTO:-0500
TZNAME:EST
DTSTART:20221106T060000
END:STANDARD
END:VTIMEZONE
BEGIN:VEVENT
DTSTART;TZID=America/Toronto:20210911T090000
DTEND;TZID=America/Toronto:20210912T170000
DTSTAMP:20260422T000440
CREATED:20210625T223412Z
LAST-MODIFIED:20240909T142150Z
UID:10000072-1631350800-1631466000@eloracentreforthearts.ca
SUMMARY:Knife Making Demonstration with Forged Link
DESCRIPTION:September 11 & 12 from 9AM – 5PM each day   \nThe Ontario Artist Blacksmith Association proudly hosts a two day demonstration with Forged Link of Elmwood\, Ontario in the outdoor greenspace at the Elora Centre for the Arts. \nGuests will learn:\n– Forging a Brut de Forge knife\n– Full handle construction\n– Forging a Siberian style Yakut knife\n– Rat tail tang construction\n– Pattern welded steel billets\n– Plus much more! \nTicket also includes:\nArtist Reception in the Minarovich Gallery on Saturday September 11th at  5:30pm (following public health guidelines for indoor gatherings)\nLight refreshments and snack will be provided.  Tickets are $95 (including HST). \nVisa\, Mastercard accepted. Please note Visa Debit is not accepted. \nParticipants are asked to bring their own water bottle (water will be provided).  Please bring safety goggles. \n \nAbout the Artist:\nForged Link\, is Daniel Linkenheld. He has been forging now for about 18 years. Dan has taken local courses over the years through the OABA network. Dan has taken a course through Dean Piesner to create Japanese style swords as well as training in the US under the banner of the American Bladesmithing Society under Kevin Cashen and Joeseph Szilaski. In February 2012 Dan’s work was featured on the cover of Lee Valley tools this was the first time Lee Valley had ever featured knives on their magazines. \nDan is presently making knives and axes and teaches knifemaking on a one to one basis for safety and personal attention. \n  \n  \n \n  \n  \n \n  \n  \n  \n  \n  \n  \n 
URL:https://eloracentreforthearts.ca/event/knife-making-demonstration-with-forged-link/
LOCATION:Ontario
CATEGORIES:Adult Workshops,Events
ATTACH;FMTTYPE=image/jpeg:https://eloracentreforthearts.ca/wp-content/uploads/2024/09/Knife-Making-Demo-IG-square-web.jpg
END:VEVENT
END:VCALENDAR