BEGIN:VCALENDAR
VERSION:2.0
PRODID:-//Elora Centre for the Arts - ECPv6.15.15//NONSGML v1.0//EN
CALSCALE:GREGORIAN
METHOD:PUBLISH
X-ORIGINAL-URL:https://eloracentreforthearts.ca
X-WR-CALDESC:Events for Elora Centre for the Arts
REFRESH-INTERVAL;VALUE=DURATION:PT1H
X-Robots-Tag:noindex
X-PUBLISHED-TTL:PT1H
BEGIN:VTIMEZONE
TZID:America/Toronto
BEGIN:DAYLIGHT
TZOFFSETFROM:-0500
TZOFFSETTO:-0400
TZNAME:EDT
DTSTART:20190310T070000
END:DAYLIGHT
BEGIN:STANDARD
TZOFFSETFROM:-0400
TZOFFSETTO:-0500
TZNAME:EST
DTSTART:20191103T060000
END:STANDARD
BEGIN:DAYLIGHT
TZOFFSETFROM:-0500
TZOFFSETTO:-0400
TZNAME:EDT
DTSTART:20200308T070000
END:DAYLIGHT
BEGIN:STANDARD
TZOFFSETFROM:-0400
TZOFFSETTO:-0500
TZNAME:EST
DTSTART:20201101T060000
END:STANDARD
BEGIN:DAYLIGHT
TZOFFSETFROM:-0500
TZOFFSETTO:-0400
TZNAME:EDT
DTSTART:20210314T070000
END:DAYLIGHT
BEGIN:STANDARD
TZOFFSETFROM:-0400
TZOFFSETTO:-0500
TZNAME:EST
DTSTART:20211107T060000
END:STANDARD
END:VTIMEZONE
BEGIN:VEVENT
DTSTART;VALUE=DATE:20200917
DTEND;VALUE=DATE:20201201
DTSTAMP:20260424T175937
CREATED:20200908T205011Z
LAST-MODIFIED:20200908T205011Z
UID:10000050-1600300800-1606780799@eloracentreforthearts.ca
SUMMARY:Classroom and Workshops at ECFTA during Covid-19
DESCRIPTION:Our workshop class sizes have been reduced to ensure that work stations for workshop participants can be 2 metres apart.  Where class size is more than 8\, we have overflow teaching space in our gallery.  The safety and peace of mind for our participants\, visitors and staff are our priority.  We believe that creativity can be very valuable in this time of recovery\, and we invite you to visit our gallery\, artisan shop or sign up for a workshop.  For more information about our safety protocols and procedures\, please click here. \n 
URL:https://eloracentreforthearts.ca/event/classroom-and-workshops-at-ecfta-during-covid-19/
LOCATION:Ontario
CATEGORIES:Adult Workshops,Classes,Young Makers
ATTACH;FMTTYPE=image/jpeg:https://eloracentreforthearts.ca/wp-content/uploads/2024/09/Covid-Class-set-up-for-website.jpg
END:VEVENT
BEGIN:VEVENT
DTSTART;TZID=America/Toronto:20200924T190000
DTEND;TZID=America/Toronto:20200924T203000
DTSTAMP:20260424T175937
CREATED:20200213T034634Z
LAST-MODIFIED:20240909T141857Z
UID:10000043-1600974000-1600979400@eloracentreforthearts.ca
SUMMARY:10 Simple Steps Towards a Zero Waste Home!
DESCRIPTION:Thursday September 24\, 2020  |  7 – 8:30PM \nJoin Susan Gentilcore of All Things Preserved for an evening of earth-friendly learning and making! \nWe all want to make changes to reduce waste in our lives\, but sometimes we just don’t know where to begin. This fun\, interactive and hands-on event is a great place to start. We’ll discuss 10 easy\, low or no-cost changes we can all make in our daily lives to reduce waste\, save money and help the environment. The focus will be on creative ways to replace single-use paper and plastic household products for the whole family. End the night by taking part in a make-and-take zero waste activity\, and take home some up-cycled sustainable product samples. \nAll ages welcome! \n$25 plus HST\, includes a make-and-take project \nMaximum 8 participants.  ALL MATERIALS PROVIDED.  **We have implemented COVID-19 safety protocols within our building and in our workshop spaces.  Work stations are 6 feet apart\, masks must be worn.  For more information about our workshop safety procedures\, please click here. \n \nAbout the Instructor: \nSusan Gentilcore of All Things Preserved is a zero-waste lifestyle advocate and coach. She offers sustainability workshops and creates upcycled\, reusable household products to replace everyday disposable items\, particularly single-use papers and plastics. Susan loves connecting with people who share her passion for becoming a better steward of the earth. \nwww.allthingspreserved.ca
URL:https://eloracentreforthearts.ca/event/10-simple-steps-towards-a-zero-waste-home/
LOCATION:Ontario
CATEGORIES:Adult Workshops,Classes,courses
ATTACH;FMTTYPE=image/jpeg:https://eloracentreforthearts.ca/wp-content/uploads/2024/09/Zero-Waste-Home-IG-and-web-1.jpg
END:VEVENT
END:VCALENDAR