BEGIN:VCALENDAR
VERSION:2.0
PRODID:-//Elora Centre for the Arts - ECPv6.15.15//NONSGML v1.0//EN
CALSCALE:GREGORIAN
METHOD:PUBLISH
X-ORIGINAL-URL:https://eloracentreforthearts.ca
X-WR-CALDESC:Events for Elora Centre for the Arts
REFRESH-INTERVAL;VALUE=DURATION:PT1H
X-Robots-Tag:noindex
X-PUBLISHED-TTL:PT1H
BEGIN:VTIMEZONE
TZID:America/Toronto
BEGIN:DAYLIGHT
TZOFFSETFROM:-0500
TZOFFSETTO:-0400
TZNAME:EDT
DTSTART:20190310T070000
END:DAYLIGHT
BEGIN:STANDARD
TZOFFSETFROM:-0400
TZOFFSETTO:-0500
TZNAME:EST
DTSTART:20191103T060000
END:STANDARD
BEGIN:DAYLIGHT
TZOFFSETFROM:-0500
TZOFFSETTO:-0400
TZNAME:EDT
DTSTART:20200308T070000
END:DAYLIGHT
BEGIN:STANDARD
TZOFFSETFROM:-0400
TZOFFSETTO:-0500
TZNAME:EST
DTSTART:20201101T060000
END:STANDARD
BEGIN:DAYLIGHT
TZOFFSETFROM:-0500
TZOFFSETTO:-0400
TZNAME:EDT
DTSTART:20210314T070000
END:DAYLIGHT
BEGIN:STANDARD
TZOFFSETFROM:-0400
TZOFFSETTO:-0500
TZNAME:EST
DTSTART:20211107T060000
END:STANDARD
END:VTIMEZONE
BEGIN:VEVENT
DTSTART;TZID=America/Toronto:20200109T100000
DTEND;TZID=America/Toronto:20200625T120000
DTSTAMP:20260425T103638
CREATED:20191210T221102Z
LAST-MODIFIED:20240916T173434Z
UID:10000558-1578564000-1593086400@eloracentreforthearts.ca
SUMMARY:Supportive Arts for Adults - Winter/Spring Edition 2020 (on hold)
DESCRIPTION:24 Week Winter/Spring Session  |  Thursdays 10AM-12PM \nThursday Supportive Arts sessions will resume in the Fall. \nWe understand the growing concern around the outbreak of the Coronavirus (COVID-19)and as promised we are closely monitoring the evolving health reports from reputable sources.  The health of our community\, staff and volunteers are the utmost importance to us. \nWe are following the advice of local public health agencies and other leaders in our community as information unfolds rapidly.  This morning our Executive committee made the tough decision to cancel our March Break program for this coming week.  In making these difficult decisions\, we hope to reduce the risk of spreading the virus\, and\, in turn\, protect our vulnerable populations.  Our hearts go out to all those impacted in Canada and across the world\, and we will do our part in helping to prevent the spread of COVID-19. \nWe will resume normal programming as soon as local health officials indicate it is safe to do so. \nThank you for your help and support of these difficult decisions. \n_____ \nJanuary 9 – Thursday June 25\, 2020 (24 sessions) \n*no class Thursday\, March 19 \nAges 18+ \n$288 for 24 sessions\, plus HST  (if you are not registering for the 24 sessions and would like to register for individual classes only please contact our office.  Individual sessions are $12 each) \nMax. 20 participants – please register in advance! \n  \nSupportive Arts for Adults 18+ \nAN ALL INCLUSIVE\, ALL ABILITIES WORKSHOP with ECFTA Arts Educators in collaboration with the FESTIVAL SINGERS \nJoin us for a guided morning workshop\, specifically designed to support adults of all abilities. Each Thursday we embrace diversity through art making\, movement and vocal explorations. \nEvery week is as unique as each of our participants!  Please bring your support worker if assistance is required.  Our ECFTA classroom is now wheelchair accessible!!
URL:https://eloracentreforthearts.ca/event/supportive-arts-for-adults-winter-spring-edition/
LOCATION:Ontario
CATEGORIES:Adult Workshops,Classes,courses
ATTACH;FMTTYPE=image/jpeg:https://eloracentreforthearts.ca/wp-content/uploads/2024/09/Supportive-Arts-Winter-Spring-2020-IG-for-web.jpg
END:VEVENT
END:VCALENDAR