BEGIN:VCALENDAR
VERSION:2.0
PRODID:-//Elora Centre for the Arts - ECPv6.15.15//NONSGML v1.0//EN
CALSCALE:GREGORIAN
METHOD:PUBLISH
X-WR-CALNAME:Elora Centre for the Arts
X-ORIGINAL-URL:https://eloracentreforthearts.ca
X-WR-CALDESC:Events for Elora Centre for the Arts
REFRESH-INTERVAL;VALUE=DURATION:PT1H
X-Robots-Tag:noindex
X-PUBLISHED-TTL:PT1H
BEGIN:VTIMEZONE
TZID:America/Toronto
BEGIN:DAYLIGHT
TZOFFSETFROM:-0500
TZOFFSETTO:-0400
TZNAME:EDT
DTSTART:20210314T070000
END:DAYLIGHT
BEGIN:STANDARD
TZOFFSETFROM:-0400
TZOFFSETTO:-0500
TZNAME:EST
DTSTART:20211107T060000
END:STANDARD
BEGIN:DAYLIGHT
TZOFFSETFROM:-0500
TZOFFSETTO:-0400
TZNAME:EDT
DTSTART:20220313T070000
END:DAYLIGHT
BEGIN:STANDARD
TZOFFSETFROM:-0400
TZOFFSETTO:-0500
TZNAME:EST
DTSTART:20221106T060000
END:STANDARD
BEGIN:DAYLIGHT
TZOFFSETFROM:-0500
TZOFFSETTO:-0400
TZNAME:EDT
DTSTART:20230312T070000
END:DAYLIGHT
BEGIN:STANDARD
TZOFFSETFROM:-0400
TZOFFSETTO:-0500
TZNAME:EST
DTSTART:20231105T060000
END:STANDARD
END:VTIMEZONE
BEGIN:VEVENT
DTSTART;TZID=America/Toronto:20220609T193000
DTEND;TZID=America/Toronto:20220609T210000
DTSTAMP:20260421T091955
CREATED:20220511T004148Z
LAST-MODIFIED:20240909T142659Z
UID:10000144-1654803000-1654808400@eloracentreforthearts.ca
SUMMARY:Tell Better Stories with Brad Woods
DESCRIPTION:STORYTELLING WORKSHOP IN THE GALLERY \nMAX. 40 people \nALL AGES \n$35 + HST \nDespite what you may have heard\, it is actually stories that make the world go round! \nWe’ve been telling stories for as long as we’ve been doing anything. in fact\, you could say Storytelling is what makes us human. Whether it is by a bedside\, around a table\, behind a lectern or from a stage\, it’s what we do\, it’s who we are\, it’s all we are. The stories we tell become our stories\, and our stories become the currency with which we connect\, commune and collaborate. \n \nJoin Storyteller Brad Woods for a workshop that is equal parts lecture\, conversation\, and performance. \nCome prepared to discover and discuss the power\, the beauty and the art of a story well told. But mostly\, just come to hear some really good stories! \nFirst come seating.  Complimentary tea and a bagged snack will be available. \nCovid-19 safety protocols are in effect. \nWe encourage guests to consider remaining masked while attending the talk\, however this is optional. \nIf the workshop is cancelled for any reason due to Public Health concerns\, refunds will be given in full.  Please contact us for more information. \n\nAbout Brad Woods \n \nBrad Woods has told stories at festivals\, theatres\, conferences\, prisons\, churches and pubs all over North America and the UK. He tells traditional tales\, literary classics and personal stories. His stories have been featured in a variety of broadcasts and publications including CBC Radio 1\, the Globe and Mail and Canadian Running Magazine. Brad has told to all ages and in every type of venue imaginable. He is the recipient of the Alice Kane Award for Storytelling and used it to travel to Lesotho (Southern Africa) to tell\, trade and collect stories on behalf of Bracelet of Hope. \n“Hilarious\, suspenseful – a masterful story teller. “Ins Choi\, Creator-Kim’s Convenience \n“Brad Woods is a master storyteller. With wit and wisdom\, humour and heart\, Brad skillfully weaves tales that leave his audience laughing and thinking\, often at the same time.” Terry Fallis\, Novelist – Two Time Leacock Award Winner \n“Brad Woods in an engaging and creative storyteller. He has a mix of personal and traditional stories and some that interweave the real and the fabulous.” Dan Yashinsky\, Founder – Toronto Storytelling Festival \nWatch Brad live here. \n \n  \n 
URL:https://eloracentreforthearts.ca/event/tell-better-stories-with-brad-woods/
LOCATION:Ontario
CATEGORIES:Adult Workshops,Classes
ATTACH;FMTTYPE=image/jpeg:https://eloracentreforthearts.ca/wp-content/uploads/2024/09/Storytelling-IG-and-web-2022.jpg
END:VEVENT
BEGIN:VEVENT
DTSTART;TZID=America/Toronto:20220612T100000
DTEND;TZID=America/Toronto:20220612T150000
DTSTAMP:20260421T091955
CREATED:20220516T174719Z
LAST-MODIFIED:20240909T142713Z
UID:10000146-1655028000-1655046000@eloracentreforthearts.ca
SUMMARY:Colour\, Light & Line with Peter Skoggard
DESCRIPTION:DRAWING EXPLORATIONS IN PASTEL FOR ALL!  |  COLOUR\, LIGHT & LINE WITH PETER SKOGGARD \nAGES 16+ \nMAX 12 people \n$75 + HST \nTHIS EVENT IS POSTPONED TO THE FALL. \nPLEASE CHECK BACK IN FOR A NEW DATE SOON!\nA lively introduction to drawing for beginners or those who wish to re-engage with their drawing practice.  Led by enigmatic artist and Instructor Peter Skoggard. \n \nLet Peter guide you in a full day of drawing in 3 parts. COLOUR\, LIGHT & LINE \nCOLOUR. An orange is an orange is an orange…. or is it? Explore the hidden colours of the simplest of objects and see how colour does other things than merely depict colour. \nLIGHT …and shade. Find the hidden light in the shadows. Explore the dark side of the moon! And consider the world of reflective light. What did the Impressionists see in the shadows? \nLINE. At once the simplest and most elusive of artistic applications. Are there really any lines in life? And yet\, it’s often the most powerful and architectural artistic convention. \nAt the conclusion of the class\, let’s throw it all together in a finished drawing! \n  \n  \nHealth & Safety \n\nTo ensure the health and safety of staff and participants\, daily cleaning will be in place to ensure a safe and enjoyable experience.\nIf classes are cancelled for any reason due to Public Health concerns\, refunds will be given in full.\n\n  \n \n  \n 
URL:https://eloracentreforthearts.ca/event/colour-light-line-with-peter-skoggard/
LOCATION:Ontario
CATEGORIES:Adult Workshops,Classes
ATTACH;FMTTYPE=image/jpeg:https://eloracentreforthearts.ca/wp-content/uploads/2024/09/Colour-Light-and-Line-workshop-PS-square.jpg
END:VEVENT
END:VCALENDAR