BEGIN:VCALENDAR
VERSION:2.0
PRODID:-//Elora Centre for the Arts - ECPv6.15.15//NONSGML v1.0//EN
CALSCALE:GREGORIAN
METHOD:PUBLISH
X-WR-CALNAME:Elora Centre for the Arts
X-ORIGINAL-URL:https://eloracentreforthearts.ca
X-WR-CALDESC:Events for Elora Centre for the Arts
REFRESH-INTERVAL;VALUE=DURATION:PT1H
X-Robots-Tag:noindex
X-PUBLISHED-TTL:PT1H
BEGIN:VTIMEZONE
TZID:America/Toronto
BEGIN:DAYLIGHT
TZOFFSETFROM:-0500
TZOFFSETTO:-0400
TZNAME:EDT
DTSTART:20210314T070000
END:DAYLIGHT
BEGIN:STANDARD
TZOFFSETFROM:-0400
TZOFFSETTO:-0500
TZNAME:EST
DTSTART:20211107T060000
END:STANDARD
BEGIN:DAYLIGHT
TZOFFSETFROM:-0500
TZOFFSETTO:-0400
TZNAME:EDT
DTSTART:20220313T070000
END:DAYLIGHT
BEGIN:STANDARD
TZOFFSETFROM:-0400
TZOFFSETTO:-0500
TZNAME:EST
DTSTART:20221106T060000
END:STANDARD
BEGIN:DAYLIGHT
TZOFFSETFROM:-0500
TZOFFSETTO:-0400
TZNAME:EDT
DTSTART:20230312T070000
END:DAYLIGHT
BEGIN:STANDARD
TZOFFSETFROM:-0400
TZOFFSETTO:-0500
TZNAME:EST
DTSTART:20231105T060000
END:STANDARD
END:VTIMEZONE
BEGIN:VEVENT
DTSTART;TZID=America/Toronto:20220406T123000
DTEND;TZID=America/Toronto:20220406T140000
DTSTAMP:20260421T121645
CREATED:20220308T225215Z
LAST-MODIFIED:20240909T142544Z
UID:10000120-1649248200-1649253600@eloracentreforthearts.ca
SUMMARY:Lunch Time Lecture Series: T.S Eliot's Four Quartets - A spiritual handbook for modern times
DESCRIPTION:T.S. ELIOT’S FOUR QUARTETS: A SPIRITUAL HANDBOOK FOR MODERN TIMES \nT.S. Eliot\, though not an uncontroversial personality of the 20th Century\, did manage to distill an elixir of astounding universality in his last major poem\, Four Quartets. \n \nLet local legend\, artist\, dancer and composer PETER SKOGGARD turn your ear and turn you on to some of his favourite topics during this casual lunchtime lectures in the ELORA CENTRE FOR THE ARTS studio classroom. \nTune up your grey matter and engage with the enigmatic Mr. Skoggard to refresh\, relearn or discover something new! \n$15 per person \n$10 seniors and students \nPay at the door. CASH ONLY. No registration required. \n  \n  \n  \n\nEach lecture is drop in during the lunch hour (lunch not provided).\nPlease bring a drink and allow for time for a chat afterwards.\nMasking will be in effect.\nHosted and presented by Peter Skoggard.\n\nFor more information\, please email Peter directly: p.skoggard@hotmail.com
URL:https://eloracentreforthearts.ca/event/lunch-time-lecture-series-t-s-eliots-four-quartets-a-spiritual-handbook-for-modern-times/
LOCATION:Ontario
CATEGORIES:Adult Workshops,Classes,courses
ATTACH;FMTTYPE=image/jpeg:https://eloracentreforthearts.ca/wp-content/uploads/2024/09/Lunchtime-Lecture-with-Peter-Skoggard-square.jpg
END:VEVENT
BEGIN:VEVENT
DTSTART;TZID=America/Toronto:20220413T123000
DTEND;TZID=America/Toronto:20220413T140000
DTSTAMP:20260421T121645
CREATED:20220308T225828Z
LAST-MODIFIED:20240909T142548Z
UID:10000121-1649853000-1649858400@eloracentreforthearts.ca
SUMMARY:Lunch Time Lecture Series: Music - the bridge between science and the heart and how harmony works
DESCRIPTION:MUSIC: THE BRIDGE BETWEEN SCIENCE AND THE HEART  |  HOW HARMONY WORKS \nThe science of acoustics and the history of thought and feeling in Music in the last 9 Centuries in one easy lesson.  Sounds improbable? Come and see! We will look briefly at a 14th Century mass\, a 15th Century mass\, music of John Dowland\, Pergolesi\, Handel\, and Wagner. \nNo experience necessary. Just bring your ears and your heart. \n \nLet local legend\, artist\, dancer and composer PETER SKOGGARD turn your ear and turn you on to some of his favourite topics during this casual lunchtime lectures in the ELORA CENTRE FOR THE ARTS studio classroom. \nTune up your grey matter and engage with the enigmatic Mr. Skoggard to refresh\, relearn or discover something new! \n$15 per person \n$10 seniors and students \nPay at the door. CASH ONLY. No registration required. \n  \n  \n\nEach lecture is drop in during the lunch hour (lunch not provided).\nPlease bring a drink and allow for time for a chat afterwards.\nMasking will be in effect.\nHosted and presented by Peter Skoggard.\n\nFor more information\, please email Peter directly: p.skoggard@hotmail.com
URL:https://eloracentreforthearts.ca/event/lunch-time-lecture-series-music-the-bridge-between-science-and-the-heart-and-how-harmony-works/
LOCATION:Ontario
CATEGORIES:Adult Workshops,Classes,courses
ATTACH;FMTTYPE=image/jpeg:https://eloracentreforthearts.ca/wp-content/uploads/2024/09/Lunchtime-Lecture-with-Peter-Skoggard-square.jpg
END:VEVENT
BEGIN:VEVENT
DTSTART;TZID=America/Toronto:20220420T123000
DTEND;TZID=America/Toronto:20220420T140000
DTSTAMP:20260421T121645
CREATED:20220308T230512Z
LAST-MODIFIED:20240909T142548Z
UID:10000122-1650457800-1650463200@eloracentreforthearts.ca
SUMMARY:Lunch Time Lecture Series: The bird of perception - AN AUTOBIOALLEGORATORIO WITH THE POETRY OF E.E. CUMMINGS AND W.H. AUDEN
DESCRIPTION:THE BIRD OF PERCEPTION | AN AUTOBIOALLEGORATORIO WITH THE POETRY OF E.E. CUMMINGS AND W.H. AUDEN \nHow can we reconcile some of the major metaphysical traditions in our modern lives? Ever try blending Christianity\, Buddhism\, and developmental psychology\, using the poetry of Auden and Cummings? Here it is: The Bird of Perception. \n \nLet local legend\, artist\, dancer and composer PETER SKOGGARD turn your ear and turn you on to some of his favourite topics during this casual lunchtime lectures in the ELORA CENTRE FOR THE ARTS studio classroom. \nTune up your grey matter and engage with the enigmatic Mr. Skoggard to refresh\, relearn or discover something new! \n$15 per person \n$10 seniors and students \nPay at the door. CASH ONLY. No registration required. \n  \n  \n  \n\nEach lecture is drop in during the lunch hour (lunch not provided).\nPlease bring a drink and allow for time for a chat afterwards.\nMasking will be in effect.\nHosted and presented by Peter Skoggard.\n\nFor more information\, please email Peter directly: p.skoggard@hotmail.com
URL:https://eloracentreforthearts.ca/event/lunch-time-lecture-series-the-bird-of-perception-an-autobioallegoratorio-with-the-poetry-of-e-e-cummings-and-w-h-auden/
LOCATION:Ontario
CATEGORIES:Adult Workshops,Classes,courses
ATTACH;FMTTYPE=image/jpeg:https://eloracentreforthearts.ca/wp-content/uploads/2024/09/Lunchtime-Lecture-with-Peter-Skoggard-square.jpg
END:VEVENT
BEGIN:VEVENT
DTSTART;VALUE=DATE:20220422
DTEND;VALUE=DATE:20220424
DTSTAMP:20260421T121645
CREATED:20220228T195313Z
LAST-MODIFIED:20240909T142427Z
UID:10000107-1650585600-1650758399@eloracentreforthearts.ca
SUMMARY:Fine Silver Creations: Printing in Silver Metal Clay  |  2 day workshop
DESCRIPTION:JEWELLERY WITH PATRICE BAKER OF SILVERFISH STUDIOS \nFRIDAY\, APRIL 22\, 2022  |  6:30 – 9:00 PM  AND SATURDAY\, APRIL 23\, 2022 from 10AM – 4 PM \nAges 16+  | MAX. 12 \n$150 + HST \nPlus $90 kit fee payable to the instructor (day of workshop) \nThis introductory 2 session workshop in Fine Silver Metal Clay will astonish and delight you! \nSilver Metal Clay feels like a dense\, heavy clay\, but is actually minute particles of silver mixed with water and a cellulose based binder.  Friday evening\, we will explore all manner of textures\, found objects\, commercial materials\, and plan our launch into using the malleable silver clay on day 2. \n \nOn the Saturday\, we will create\, refine and dry our silver\, and during a later lunch break\, the pieces will be fired at 1650 degrees F in Patrice’s travelling kiln. The remainder of the day will entail finishing details of the pieces\, creating patina if desired\, and adding components to make your unique wearable art pieces.  \nYou will be amazed at the compliments you will receive when you wear your art\, AND\, watch the look of disbelief when you say ‘I made this myself’! \nPlease note: there is a $90 kit fee to cover the cost of materials\, payable by cash\, e-transfer\, visa or MasterCard to Patrice at the start of class. \n\nAll materials included in the kit fee.\nKit fit includes 25 grams of pure fine silver\, a sterling chain and a pair of sterling ear wires. \nExpect to make approximately 5-7 smaller pieces\, or 3-5 larger pieces.\n\n\nAbout the Instructor \nPatrice is a maker and a collector\, with a beautiful studio and workspace in Fergus ON.  She has had a long career as an educator\, including many years teaching art\, science and technology. She has also been an instructor in the Jewellery Program at Georgian College\, as well as a repeat instructor and presenter in Milwaukee\, North Carolina\, Pennsylvania and Maine Schools of Art.  \nRepeatedly\, participants in Patrice’s workshops remark on how thrilled they are to find their artistic voice\, and how delighted they are to have made such beautiful and meaningful pieces of wearable  art. \n@patricebaker silverfishstudios \n  \n\nHealth & Safety  \nTo ensure the health and safety of staff and participants\, daily cleaning and masking will be in place to ensure a safe and enjoyable experience. Participants will be asked to complete a COVID-19 Liability Waiver. \nIf classes are cancelled for any reason due to Public Health concerns\, refunds will be given in full. \nQuestions?  Please contact us.
URL:https://eloracentreforthearts.ca/event/fine-silver-creations-printing-in-silver-metal-clay-2-day-workshop/
LOCATION:Ontario
CATEGORIES:Adult Workshops,courses
ATTACH;FMTTYPE=image/jpeg:https://eloracentreforthearts.ca/wp-content/uploads/2024/09/SIlver-Workshop-Patrice-square.jpg
END:VEVENT
BEGIN:VEVENT
DTSTART;TZID=America/Toronto:20220430T100000
DTEND;TZID=America/Toronto:20220430T153000
DTSTAMP:20260421T121645
CREATED:20220228T192830Z
LAST-MODIFIED:20240909T142420Z
UID:10000106-1651312800-1651332600@eloracentreforthearts.ca
SUMMARY:Joyful Mending: The Art of Visible Mending Workshop
DESCRIPTION:JOYFUL MENDING! THE ART OF VISIBLE MENDING WORKSHOP \nWITH DIANNE KENNEDY-CRUTTENDEN \nAges 16+  |  MAX. 10 participants \n$80 + HST \nIn this one day workshop we will celebrate the mends and embellishments that bring new life to old clothes and favourite textiles to create “beautiful scars for the loved but torn”. Let’s mend that favourite T-shirt\, pair of jeans or blanket! It takes 2\,700 litres of water to produce ONE T-shirt. Let’s repair our wonderful textiles instead of buying another or adding them to landfill. \n \nThere are so many methods of mending various woven and knitted fabrics. Explore all of these with Dianne and let her share with you her favourite embroidery\, sashiko\, and darning stitches. \nYou will create a sampler of stitches and then continue onto working on individual mending projects and/or create a selection of patches that can be used in future repairs or embellishments. \nIf you don’t have anything to mend\, Dianne will show you how to make wonderful patches that you can use in the future or even frame as a little piece of art. \nWhat to Bring: \n\nsomething you’d like to patch\, repair or embellish.\nscissors\nsewing needles for embroidery\na variety of embroidery floss and/or yarn to repair your piece\nfabric and or squares of felt for making patches\n5”-6” embroidery hoop\n\nIf you do not have any of the above\, Dianne will have lots of yarn\, floss\, fabric etc. available for purchase. \nShe will also have a variety of mending tools you can experiment with during the class. \n\nAbout the Instructor \nDianne Kennedy Cruttenden has been creating woven tapestries and clothing since 1970. She has honed her skill over the decades\, often carding\, dyeing and spinning her own yarn. Dianne has taught weaving over the years throughout North America\, from the Canadian Arctic to the United States. \n@dkcweaver (IG) @Dianne Kennedy-Cruttenden (FB) \n  \n  \n  \nHealth & Safety \nTo ensure the health and safety of staff and participants\, daily cleaning and masking will be in place to ensure a safe and enjoyable experience. Participants will be asked to complete a COVID-19 Liability Waiver. If classes are cancelled for any reason due to Public Health concerns\, refunds will be given in full. \n\nMore Information \nPlease contact us for more information. \n 
URL:https://eloracentreforthearts.ca/event/joyful-mending-the-art-of-visible-mending-workshop/
LOCATION:Ontario
CATEGORIES:Adult Workshops,courses
ATTACH;FMTTYPE=image/jpeg:https://eloracentreforthearts.ca/wp-content/uploads/2024/09/Joyful-Mending-with-Dianne-square-size-1.jpg
END:VEVENT
END:VCALENDAR