BEGIN:VCALENDAR
VERSION:2.0
PRODID:-//Elora Centre for the Arts - ECPv6.15.15//NONSGML v1.0//EN
CALSCALE:GREGORIAN
METHOD:PUBLISH
X-WR-CALNAME:Elora Centre for the Arts
X-ORIGINAL-URL:https://eloracentreforthearts.ca
X-WR-CALDESC:Events for Elora Centre for the Arts
REFRESH-INTERVAL;VALUE=DURATION:PT1H
X-Robots-Tag:noindex
X-PUBLISHED-TTL:PT1H
BEGIN:VTIMEZONE
TZID:America/Toronto
BEGIN:DAYLIGHT
TZOFFSETFROM:-0500
TZOFFSETTO:-0400
TZNAME:EDT
DTSTART:20190310T070000
END:DAYLIGHT
BEGIN:STANDARD
TZOFFSETFROM:-0400
TZOFFSETTO:-0500
TZNAME:EST
DTSTART:20191103T060000
END:STANDARD
BEGIN:DAYLIGHT
TZOFFSETFROM:-0500
TZOFFSETTO:-0400
TZNAME:EDT
DTSTART:20200308T070000
END:DAYLIGHT
BEGIN:STANDARD
TZOFFSETFROM:-0400
TZOFFSETTO:-0500
TZNAME:EST
DTSTART:20201101T060000
END:STANDARD
BEGIN:DAYLIGHT
TZOFFSETFROM:-0500
TZOFFSETTO:-0400
TZNAME:EDT
DTSTART:20210314T070000
END:DAYLIGHT
BEGIN:STANDARD
TZOFFSETFROM:-0400
TZOFFSETTO:-0500
TZNAME:EST
DTSTART:20211107T060000
END:STANDARD
END:VTIMEZONE
BEGIN:VEVENT
DTSTART;TZID=America/Toronto:20200929T100000
DTEND;TZID=America/Toronto:20201217T123000
DTSTAMP:20260424T122354
CREATED:20200930T202902Z
LAST-MODIFIED:20240909T142102Z
UID:10000053-1601373600-1608208200@eloracentreforthearts.ca
SUMMARY:Supportive Arts Program  |  OTF Grant Boost
DESCRIPTION:New Ontario Trillium Foundation (OTF) grant will boost our Supportive Arts program for adults 18+ with learning (dis)abilities \nWe are so thankful to the OTF who’s grant will help us grow this community program over the next 3 years!  Our goal with this program is the enrich the lives of our community participants through arts-based learning opportunities and compelling artistic experiences. \n \n  \n  \n  \n  \n  \nDue to COVID restrictions and the compromised immune systems of some of our participants\, they are not able to engage in road trips and come visit our facility at the Elora Centre for the Arts for phase one of this program.  The good news is\, if they can’t come to us (for now) – we will go to them!  We take our art instructors\, staff and art supplies ‘on the road’ to Guelph and run the program twice a week at the Live & Learn day-facility! \n \nCreativity – Self Discovery – Art & Mindfulness \nTwice a week\, an ECFTA Arts Instructor will lead a themed art project for the group\, followed by a body movement & mindfulness session that ties into the theme.   We look forward to sharing the photos from each week with our community so you can enjoy and appreciate the difference creativity can make in the lives of  participants. \nTo find out more\, and view photos of our program please click here!
URL:https://eloracentreforthearts.ca/event/supportive-arts-program-otf-grant-boost/
LOCATION:Ontario
CATEGORIES:Adult Workshops,Outreach Programs
ATTACH;FMTTYPE=image/jpeg:https://eloracentreforthearts.ca/wp-content/uploads/2024/09/Supportive-Arts-OTF-program-graphic-for-web-square-size-1.jpg
END:VEVENT
END:VCALENDAR